BEGIN:VCALENDAR
VERSION:2.0
PRODID:-//Tukios.com/
BEGIN:VEVENT
UID:0ad88579-d864-4ae7-9ffb-90ab25b6e214@www.barrettfh.com
DTSTAMP:20260420T003015Z
DTSTART:20260426T190000Z
DTEND:20260426T200000Z
SUMMARY:Funeral Service
DESCRIPTION:
URL:https://www.barrettfh.com/obituaries/angela-moss
LOCATION: 118 N Brooks St  Cleveland GA 30528
GEO:34.5986097;-83.7613927
END:VEVENT
END:VCALENDAR