BEGIN:VCALENDAR
VERSION:2.0
PRODID:-//Tukios.com/
BEGIN:VEVENT
UID:81705f0b-b1ee-4247-90c6-c5c782486e6d@www.barrettfh.com
DTSTAMP:20260420T002204Z
DTSTART:20260425T200000Z
DTEND:20260425T220000Z
SUMMARY:Visitation
DESCRIPTION:
URL:https://www.barrettfh.com/obituaries/angela-moss
LOCATION:Barrett Funeral Home 118 N Brooks St  Cleveland GA 30528
GEO:34.5986097;-83.7613927
END:VEVENT
END:VCALENDAR