BEGIN:VCALENDAR
VERSION:2.0
PRODID:-//Tukios.com/
BEGIN:VEVENT
UID:1f278120-019c-4e48-a11e-6c601ca24f68@www.barrettfh.com
DTSTAMP:20260421T211902Z
DTSTART:20260516T160000Z
DTEND:20260516T180000Z
SUMMARY:Visitation
DESCRIPTION:
URL:https://www.barrettfh.com/obituaries/virginia-jacobs
LOCATION:Barrett Funeral Home 118 N Brooks St  Cleveland GA 30528
GEO:34.5986097;-83.7613927
END:VEVENT
END:VCALENDAR